BEGIN:VCALENDAR
VERSION:2.0
PRODID:-//hacksw/handcal//NONSGML v1.0//EN
CALSCALE:GREGORIAN
X-WR-TIMEZONE:Europe/Vienna
BEGIN:VEVENT
DESCRIPTION:Kunstmarkt
DTSTART:20260606T090000
DTEND:20260606T170000
URL;VALUE=URI:https://www.huma-eleven.at/de/events/kunstmarkt/2026-06-06
SUMMARY:Kunstmarkt
DTSTAMP:20260420T144345
UID:69e63ba102515
END:VEVENT
END:VCALENDAR