BEGIN:VCALENDAR
VERSION:2.0
PRODID:-//hacksw/handcal//NONSGML v1.0//EN
CALSCALE:GREGORIAN
X-WR-TIMEZONE:Europe/Vienna
BEGIN:VEVENT
DESCRIPTION:Spielzeugflohmarkt
DTSTART:20260522T150000
DTEND:20260523T160000
URL;VALUE=URI:https://www.huma-eleven.at/de/events/spielzeugflohmarkt/2026-05-22/2026-05-23/
SUMMARY:Spielzeugflohmarkt
DTSTAMP:20260421T110546
UID:69e75a0ab6c41
END:VEVENT
END:VCALENDAR